BEGIN:VCALENDAR
VERSION:2.0
PRODID:-//Oregon Region - PCA - ECPv6.15.17//NONSGML v1.0//EN
CALSCALE:GREGORIAN
METHOD:PUBLISH
X-WR-CALNAME:Oregon Region - PCA
X-ORIGINAL-URL:https://www.oregonpca.org
X-WR-CALDESC:Events for Oregon Region - PCA
REFRESH-INTERVAL;VALUE=DURATION:PT1H
X-Robots-Tag:noindex
X-PUBLISHED-TTL:PT1H
BEGIN:VTIMEZONE
TZID:America/Los_Angeles
BEGIN:DAYLIGHT
TZOFFSETFROM:-0800
TZOFFSETTO:-0700
TZNAME:PDT
DTSTART:20250309T100000
END:DAYLIGHT
BEGIN:STANDARD
TZOFFSETFROM:-0700
TZOFFSETTO:-0800
TZNAME:PST
DTSTART:20251102T090000
END:STANDARD
BEGIN:DAYLIGHT
TZOFFSETFROM:-0800
TZOFFSETTO:-0700
TZNAME:PDT
DTSTART:20260308T100000
END:DAYLIGHT
BEGIN:STANDARD
TZOFFSETFROM:-0700
TZOFFSETTO:-0800
TZNAME:PST
DTSTART:20261101T090000
END:STANDARD
BEGIN:DAYLIGHT
TZOFFSETFROM:-0800
TZOFFSETTO:-0700
TZNAME:PDT
DTSTART:20270314T100000
END:DAYLIGHT
BEGIN:STANDARD
TZOFFSETFROM:-0700
TZOFFSETTO:-0800
TZNAME:PST
DTSTART:20271107T090000
END:STANDARD
END:VTIMEZONE
BEGIN:VEVENT
DTSTART;TZID=America/Los_Angeles:20260301T130000
DTEND;TZID=America/Los_Angeles:20260301T150000
DTSTAMP:20260421T074544
CREATED:20260120T144208Z
LAST-MODIFIED:20260221T230257Z
UID:10000925-1772370000-1772377200@www.oregonpca.org
SUMMARY:Tour Leader Training Class
DESCRIPTION:Have you ever been on an ORPCA drive or tour and thought\, “Wow\, that was fun! I’d like to lead a drive!” \nThen this class is for you! \nWhether you have never led a drive before or have led many\, this interactive class will introduce you to the steps to discover\, plan\, and execute a drive (or tour). We’ll cover the basics\, describe what resources are available to you\, share our experiences leading drives\, and present some new best practices that we learned last year having delivered 67 drives in 2025! \nWe will also introduce some of the changes we’re making to Ride with GPS. We plan to hold 1 or 2 virtual meetings later in March to go into the details of Ride with GPS (to be scheduled later). \nLooking forward to seeing you on March 1\, \nBrad Hedstrom \n\nGeneral Information about this Event: \nEach attendee must complete the data collection in the registration form. \nWe encourage all participants to take pictures and share the pictures either on our social media sites or upload them to our photo repository using the link provided with the driving directions. \nEvent Policies Regarding Privacy\, Photography\, Social Media and Recordings: Click Here \nQuestions:  Please contact the Tour Director
URL:https://www.oregonpca.org/event/tour-leader-training-class/
LOCATION:Brookwood Branch: Washington County Library\, Northeast Brookwood Parkway 2850\, Hillsboro\, OR\, 97124\, United States
CATEGORIES:Club,Drives,Socials,Special Events,Special Social,Training
ATTACH;FMTTYPE=image/webp:https://www.oregonpca.org/wp-content/uploads/tourclass.webp
GEO:45.5428782;-122.9359812
X-APPLE-STRUCTURED-LOCATION;VALUE=URI;X-ADDRESS=Brookwood Branch: Washington County Library Northeast Brookwood Parkway 2850 Hillsboro OR 97124 United States;X-APPLE-RADIUS=500;X-TITLE=Northeast Brookwood Parkway 2850:geo:-122.9359812,45.5428782
END:VEVENT
BEGIN:VEVENT
DTSTART;TZID=America/Los_Angeles:20260310T183000
DTEND;TZID=America/Los_Angeles:20260310T203000
DTSTAMP:20260421T074544
CREATED:20251231T070357Z
LAST-MODIFIED:20260302T180629Z
UID:10000912-1773167400-1773174600@www.oregonpca.org
SUMMARY:ORPCA Board of Directors Meeting – March
DESCRIPTION:The March 2026 Board Meeting is scheduled for Tuesday\, March 10\, 2026 from 6:30pm – 8:30pm. \nThis is a virtual meeting and will be conducted in Teams. If you would like to attend\, please RSVP and you will be sent a link to join the meeting. \nIf you are interested in attending\, please RSVP.  \nAll members are welcome! \n\n\n\n\n\n\n\n\n\n 
URL:https://www.oregonpca.org/event/orpca-board-of-directors-meeting-march/
LOCATION:Virtual Meeting\, Beaverton\, OR\, United States
CATEGORIES:BOD Meeting,Club
ATTACH;FMTTYPE=image/webp:https://www.oregonpca.org/wp-content/uploads/BOD-2024-1-1280.webp
GEO:45.4595131;-122.7769401
END:VEVENT
BEGIN:VEVENT
DTSTART;TZID=America/Los_Angeles:20260315T140000
DTEND;TZID=America/Los_Angeles:20260315T160000
DTSTAMP:20260421T074544
CREATED:20260302T181924Z
LAST-MODIFIED:20260303T113207Z
UID:10000962-1773583200-1773590400@www.oregonpca.org
SUMMARY:2026 New Member Orientation
DESCRIPTION:This event is by invitation only. All new members will receive an invitation via email. \nAfter the meeting we will have a club mixer. Come and meet our newest Club Members after their New Member Orientation! \nThe New Member Orientation will be held at Mi Cava & Cocina\, on 9722 SE Washington St\,\nPortland\, OR 97216\, close to PDX International Airport! \nThe Orientation is a two-hour presentation and meeting exclusively for members who have joined in the past year.\nThe meeting starts at 2pm and ends at 4pm. \nRegistration Information:  \nThis is a hosted reception and orientation for all new members. No reservation required. New members will receive an invitation by email. \nGeneral Information about this Event: \nWe encourage all participants to take pictures and share the pictures either on our social media sites or upload them to our photo repository using the link provided with the driving directions. \nEvent Policies Regarding Privacy\, Photography and Recordings: Click Here \nQuestions:  Please contact Membership Committee
URL:https://www.oregonpca.org/event/2026-new-member-orientation/
LOCATION:Mi Cava and Cocina\, 9722 SE Washington St\,\, Portland\, Oregon\, 97216
CATEGORIES:Club,Socials,Special Events,Special Social
ATTACH;FMTTYPE=image/webp:https://www.oregonpca.org/wp-content/uploads/New-Member-300x200-1.webp
ORGANIZER;CN="Membership Committee":MAILTO:membership@oregonpca.org
GEO:45.5173642;-122.5640614
X-APPLE-STRUCTURED-LOCATION;VALUE=URI;X-ADDRESS=Mi Cava and Cocina 9722 SE Washington St Portland Oregon 97216;X-APPLE-RADIUS=500;X-TITLE=9722 SE Washington St\,:geo:-122.5640614,45.5173642
END:VEVENT
BEGIN:VEVENT
DTSTART;TZID=America/Los_Angeles:20260315T153000
DTEND;TZID=America/Los_Angeles:20260315T170000
DTSTAMP:20260421T074544
CREATED:20260225T024458Z
LAST-MODIFIED:20260225T024946Z
UID:10000961-1773588600-1773594000@www.oregonpca.org
SUMMARY:2026 Post - New Member Orientation Mixer
DESCRIPTION:Come and meet our newest Club Members after their New Member Orientation! \n \nThe New Member Orientation will be held at Mi Cava & Cocina\, on 9722 SE Washington St\,\nPortland\, OR 97216\, close to PDX International Airport! \nThe Orientation is a two-hour presentation and meeting exclusively for members who have joined in the past year.\nIt will end at 4:00 PM\, so please arrive no earlier than 3:30 PM. \nSneak in quietly\, or you might be welcomed on stage to deliver a testimonial as a long-time member. \nRegistration Information:  \nThis is a no-host casual mixer\, so no registration is necessary. \nJust be ready to meet and mingle with other club members! \nOur function room will have its own full bar. Restaurant staff can take your food orders\, too. \nGeneral Information about this Event: \nWe encourage all participants to take pictures and share the pictures either on our social media sites or upload them to our photo repository using the link provided with the driving directions. \nEvent Policies Regarding Privacy\, Photography and Recordings: Click Here \nQuestions:  Please contact Membership Committee
URL:https://www.oregonpca.org/event/2026-post-new-member-orientation-mixer/
LOCATION:Mi Cava and Cocina\, 9722 SE Washington St\,\, Portland\, Oregon\, 97216
CATEGORIES:Club,Socials,Special Events,Special Social
ATTACH;FMTTYPE=image/webp:https://www.oregonpca.org/wp-content/uploads/new-mwmber.webp
ORGANIZER;CN="Membership Committee":MAILTO:membership@oregonpca.org
GEO:45.5173642;-122.5640614
X-APPLE-STRUCTURED-LOCATION;VALUE=URI;X-ADDRESS=Mi Cava and Cocina 9722 SE Washington St Portland Oregon 97216;X-APPLE-RADIUS=500;X-TITLE=9722 SE Washington St\,:geo:-122.5640614,45.5173642
END:VEVENT
BEGIN:VEVENT
DTSTART;TZID=America/Los_Angeles:20260421T183000
DTEND;TZID=America/Los_Angeles:20260421T203000
DTSTAMP:20260421T074544
CREATED:20251231T070556Z
LAST-MODIFIED:20260401T215530Z
UID:10000913-1776796200-1776803400@www.oregonpca.org
SUMMARY:ORPCA Board of Directors Meeting – April
DESCRIPTION:The April Board of Director’s Meeting will be held at Buffalo Gap Saloon and Eatery in SW Portland on Macadam Ave. The meeting will be upstairs\, in the private “Attic” area. Board members and all guests are asked to order and pay at the bar downstairs. Separate checks will be the standard for the evening. \nAll members are welcome. Please RSVP so that we can give the restaurant an accurate head count for the evening. \nIf you are interested in attending\, please RSVP. \nTuesday\, April 216:00 – 9:00 pmBuffalo Gap Saloon and Eatery6835 S. Macadam Ave.Portland\, OR 97219 \nBuffalo Gap \n \n  \n\n\n\n\n\n\n\n\n\n 
URL:https://www.oregonpca.org/event/orpca-board-of-directors-meeting-april/
LOCATION:Buffalo Gap\, 6835 S. Macadam Ave\, Portland\, 97219\, United States
CATEGORIES:BOD Meeting,Club
ATTACH;FMTTYPE=image/webp:https://www.oregonpca.org/wp-content/uploads/BOD-2024-1-1280.webp
GEO:45.4745362;-122.6718879
X-APPLE-STRUCTURED-LOCATION;VALUE=URI;X-ADDRESS=Buffalo Gap 6835 S. Macadam Ave Portland 97219 United States;X-APPLE-RADIUS=500;X-TITLE=6835 S. Macadam Ave:geo:-122.6718879,45.4745362
END:VEVENT
BEGIN:VEVENT
DTSTART;TZID=America/Los_Angeles:20260512T183000
DTEND;TZID=America/Los_Angeles:20260512T203000
DTSTAMP:20260421T074544
CREATED:20251231T070729Z
LAST-MODIFIED:20260224T093118Z
UID:10000914-1778610600-1778617800@www.oregonpca.org
SUMMARY:ORPCA Board of Directors Meeting – May
DESCRIPTION:The May 2026 Board Meeting is scheduled for Tuesday\, May 12\, 2026 from 6:30pm – 8:30pm. \nThe meeting location will be announced two weeks before the meeting date. \nIf you are interested in attending\, please RSVP.  \nAll members are welcome! \n\n\n\n\n\n\n\n\n\n 
URL:https://www.oregonpca.org/event/orpca-board-of-directors-meeting-may/
LOCATION:Virtual Meeting\, Beaverton\, OR\, United States
CATEGORIES:BOD Meeting,Club
ATTACH;FMTTYPE=image/webp:https://www.oregonpca.org/wp-content/uploads/BOD-2024-1-1280.webp
GEO:45.4595131;-122.7769401
END:VEVENT
BEGIN:VEVENT
DTSTART;TZID=America/Los_Angeles:20260609T183000
DTEND;TZID=America/Los_Angeles:20260609T203000
DTSTAMP:20260421T074544
CREATED:20251231T070942Z
LAST-MODIFIED:20251231T070942Z
UID:10000915-1781029800-1781037000@www.oregonpca.org
SUMMARY:ORPCA Board of Directors Meeting – June
DESCRIPTION:The June 2026 Board Meeting is scheduled for Tuesday\, June 12\, 2026 from 6:30pm – 8:30pm. \nThe meeting location will be announced two weeks before the meeting date. \nIf you are interested in attending\, please RSVP.  \nAll members are welcome! \n\n\n\n\n\n\n\n\n\n 
URL:https://www.oregonpca.org/event/orpca-board-of-directors-meeting-june/
LOCATION:Virtual Meeting\, Beaverton\, OR\, United States
CATEGORIES:BOD Meeting,Club
ATTACH;FMTTYPE=image/webp:https://www.oregonpca.org/wp-content/uploads/BOD-2024-1-1280.webp
GEO:45.4595131;-122.7769401
END:VEVENT
BEGIN:VEVENT
DTSTART;TZID=America/Los_Angeles:20260707T183000
DTEND;TZID=America/Los_Angeles:20260707T203000
DTSTAMP:20260421T074544
CREATED:20251231T071054Z
LAST-MODIFIED:20251231T071054Z
UID:10000916-1783449000-1783456200@www.oregonpca.org
SUMMARY:ORPCA Board of Directors Meeting – July
DESCRIPTION:The July 2026 Board Meeting is scheduled for Tuesday\, July 7\, 2026 from 6:30pm – 8:30pm. \nThe meeting location will be announced two weeks before the meeting date. \nIf you are interested in attending\, please RSVP.  \nAll members are welcome! \n\n\n\n\n\n\n\n\n\n 
URL:https://www.oregonpca.org/event/orpca-board-of-directors-meeting-july/
LOCATION:Virtual Meeting\, Beaverton\, OR\, United States
CATEGORIES:BOD Meeting,Club
ATTACH;FMTTYPE=image/webp:https://www.oregonpca.org/wp-content/uploads/BOD-2024-1-1280.webp
GEO:45.4595131;-122.7769401
END:VEVENT
BEGIN:VEVENT
DTSTART;TZID=America/Los_Angeles:20260811T183000
DTEND;TZID=America/Los_Angeles:20260811T203000
DTSTAMP:20260421T074544
CREATED:20251231T071208Z
LAST-MODIFIED:20251231T071208Z
UID:10000917-1786473000-1786480200@www.oregonpca.org
SUMMARY:ORPCA Board of Directors Meeting – August
DESCRIPTION:The August 2026 Board Meeting is scheduled for Tuesday\, August 11\, 2026 from 6:30pm – 8:30pm. \nThe meeting location will be announced two weeks before the meeting date. \nIf you are interested in attending\, please RSVP.  \nAll members are welcome! \n\n\n\n\n\n\n\n\n\n 
URL:https://www.oregonpca.org/event/orpca-board-of-directors-meeting-august/
LOCATION:Virtual Meeting\, Beaverton\, OR\, United States
CATEGORIES:BOD Meeting,Club
ATTACH;FMTTYPE=image/webp:https://www.oregonpca.org/wp-content/uploads/BOD-2024-1-1280.webp
GEO:45.4595131;-122.7769401
END:VEVENT
BEGIN:VEVENT
DTSTART;TZID=America/Los_Angeles:20260908T183000
DTEND;TZID=America/Los_Angeles:20260908T203000
DTSTAMP:20260421T074544
CREATED:20251231T071334Z
LAST-MODIFIED:20251231T071334Z
UID:10000918-1788892200-1788899400@www.oregonpca.org
SUMMARY:ORPCA Board of Directors Meeting – September
DESCRIPTION:The September 2026 Board Meeting is scheduled for Tuesday\, September 8\, 2026 from 6:30pm – 8:30pm. \nThe meeting location will be announced two weeks before the meeting date. \nIf you are interested in attending\, please RSVP.  \nAll members are welcome! \n\n\n\n\n\n\n\n\n\n 
URL:https://www.oregonpca.org/event/orpca-board-of-directors-meeting-september/
LOCATION:Virtual Meeting\, Beaverton\, OR\, United States
CATEGORIES:BOD Meeting,Club
ATTACH;FMTTYPE=image/webp:https://www.oregonpca.org/wp-content/uploads/BOD-2024-1-1280.webp
GEO:45.4595131;-122.7769401
END:VEVENT
BEGIN:VEVENT
DTSTART;TZID=America/Los_Angeles:20261013T183000
DTEND;TZID=America/Los_Angeles:20261013T203000
DTSTAMP:20260421T074544
CREATED:20251231T071423Z
LAST-MODIFIED:20251231T071423Z
UID:10000919-1791916200-1791923400@www.oregonpca.org
SUMMARY:ORPCA Board of Directors Meeting – October
DESCRIPTION:The October 2026 Board Meeting is scheduled for Tuesday\, October 13\, 2026 from 6:30pm – 8:30pm. \nThe meeting location will be announced two weeks before the meeting date. \nIf you are interested in attending\, please RSVP.  \nAll members are welcome! \n\n\n\n\n\n\n\n\n\n 
URL:https://www.oregonpca.org/event/orpca-board-of-directors-meeting-october/
LOCATION:Virtual Meeting\, Beaverton\, OR\, United States
CATEGORIES:BOD Meeting,Club
ATTACH;FMTTYPE=image/webp:https://www.oregonpca.org/wp-content/uploads/BOD-2024-1-1280.webp
GEO:45.4595131;-122.7769401
END:VEVENT
BEGIN:VEVENT
DTSTART;TZID=America/Los_Angeles:20261110T183000
DTEND;TZID=America/Los_Angeles:20261110T203000
DTSTAMP:20260421T074544
CREATED:20251231T071524Z
LAST-MODIFIED:20251231T071524Z
UID:10000920-1794335400-1794342600@www.oregonpca.org
SUMMARY:ORPCA Board of Directors Meeting – November
DESCRIPTION:The November 2026 Board Meeting is scheduled for Tuesday\, November 10\, 2026 from 6:30pm – 8:30pm. \nThe meeting location will be announced two weeks before the meeting date. \nIf you are interested in attending\, please RSVP.  \nAll members are welcome! \n\n\n\n\n\n\n\n\n\n 
URL:https://www.oregonpca.org/event/orpca-board-of-directors-meeting-november/
LOCATION:Virtual Meeting\, Beaverton\, OR\, United States
CATEGORIES:BOD Meeting,Club
ATTACH;FMTTYPE=image/webp:https://www.oregonpca.org/wp-content/uploads/BOD-2024-1-1280.webp
GEO:45.4595131;-122.7769401
END:VEVENT
BEGIN:VEVENT
DTSTART;TZID=America/Los_Angeles:20261208T183000
DTEND;TZID=America/Los_Angeles:20261208T203000
DTSTAMP:20260421T074544
CREATED:20251231T071655Z
LAST-MODIFIED:20251231T071703Z
UID:10000921-1796754600-1796761800@www.oregonpca.org
SUMMARY:ORPCA Board of Directors Meeting – December
DESCRIPTION:The December 2026 Board Meeting is scheduled for Tuesday\, December 8\, 2026 from 6:30pm – 8:30pm. \nThe meeting location will be announced two weeks before the meeting date. \nIf you are interested in attending\, please RSVP.  \nAll members are welcome! \n\n\n\n\n\n\n\n\n\n 
URL:https://www.oregonpca.org/event/orpca-board-of-directors-meeting-december/
LOCATION:Virtual Meeting\, Beaverton\, OR\, United States
CATEGORIES:BOD Meeting,Club
ATTACH;FMTTYPE=image/webp:https://www.oregonpca.org/wp-content/uploads/BOD-2024-1-1280.webp
GEO:45.4595131;-122.7769401
END:VEVENT
END:VCALENDAR