BEGIN:VCALENDAR
VERSION:2.0
PRODID:-//Oregon Region - PCA - ECPv6.15.17//NONSGML v1.0//EN
CALSCALE:GREGORIAN
METHOD:PUBLISH
X-ORIGINAL-URL:https://www.oregonpca.org
X-WR-CALDESC:Events for Oregon Region - PCA
REFRESH-INTERVAL;VALUE=DURATION:PT1H
X-Robots-Tag:noindex
X-PUBLISHED-TTL:PT1H
BEGIN:VTIMEZONE
TZID:America/Los_Angeles
BEGIN:DAYLIGHT
TZOFFSETFROM:-0800
TZOFFSETTO:-0700
TZNAME:PDT
DTSTART:20250309T100000
END:DAYLIGHT
BEGIN:STANDARD
TZOFFSETFROM:-0700
TZOFFSETTO:-0800
TZNAME:PST
DTSTART:20251102T090000
END:STANDARD
BEGIN:DAYLIGHT
TZOFFSETFROM:-0800
TZOFFSETTO:-0700
TZNAME:PDT
DTSTART:20260308T100000
END:DAYLIGHT
BEGIN:STANDARD
TZOFFSETFROM:-0700
TZOFFSETTO:-0800
TZNAME:PST
DTSTART:20261101T090000
END:STANDARD
BEGIN:DAYLIGHT
TZOFFSETFROM:-0800
TZOFFSETTO:-0700
TZNAME:PDT
DTSTART:20270314T100000
END:DAYLIGHT
BEGIN:STANDARD
TZOFFSETFROM:-0700
TZOFFSETTO:-0800
TZNAME:PST
DTSTART:20271107T090000
END:STANDARD
END:VTIMEZONE
BEGIN:VEVENT
DTSTART;TZID=America/Los_Angeles:20260217T083000
DTEND;TZID=America/Los_Angeles:20260217T123000
DTSTAMP:20260423T073207
CREATED:20251230T022633Z
LAST-MODIFIED:20260120T150812Z
UID:10000888-1771317000-1771331400@www.oregonpca.org
SUMMARY:To the Coast We Go #2
DESCRIPTION:This is a scenic back roads midweek drive loaded with twisty curves and multiple spirited driving opportunities!  \nWe leave from Ava Roasteria Progress Ridge through Scholls on Hwy 219\, up over Bald Peak\, and connect to Spring Hill Road to Hwy 47. The route takes us through Banks\, Vernonia\, and on through Jewell using the Nehalem Hwy and Hwy 202. \nAfter about 130 miles\, we hit Hwy 101 for a short jaunt to the Gearhart Hotel where lunch will be enjoyed. NOTE: If we have temps under 40°\, winter tires are recommended as there are two spots that hit 1\,500 ft. All makes welcome! \nEvent Organizer: Mark McGirr \nEvent Stats:\nNumber of Groups: To be determined\nTotal Miles: 133\nTotal Drive Time: 3.5 hours \nDigital Navigation Support: \nRidewithGPS link will be provided to attendees with Driving Directions. \nRegistration Information:  \nRegistration will open on January 21 at 7:00 a.m. and close on February 13 at 5:00 p.m. Volunteers will be needed for Leads and Sweeps. Please volunteer when you register\, if you are able and willing to accept the responsibilities. \nGeneral Information about this Event: \nRegistration is by car. Each driver must complete the data collection in the registration form. If you have a navigator\, please register that person at the same time. If you don’t have a navigator\, just mark the navigator question as N/A. \nThe start location\, time\, description of Digital Navigation Support as well a printable PDF file of Driving Directions will be provided two days before the event to all registrants. Please check your Spam folder if you do not see an email with the directions within 24 hours of the event. \nEach Participant (Driver and Navigator) is required to sign the “Release and Waiver of Liability” at the start of the drive. \nWe encourage all participants to take pictures and share the pictures either on our social media sites or upload them to our photo repository using the link provided with the driving directions. \nEvent Policies Regarding Privacy\, Photography\, Social Media and Recordings: Click Here \nQuestions:  Please contact the Drive Leader
URL:https://www.oregonpca.org/event/midweek-drive-february/
LOCATION:Ava Roastaria\, 15135 Southwest Barrows Road\, Beaverton\, OR\, 97007\, United States
CATEGORIES:Drives,Midweek Drive
ATTACH;FMTTYPE=image/webp:https://www.oregonpca.org/wp-content/uploads/tothecoastwego.webp
GEO:45.4296341;-122.8322072
X-APPLE-STRUCTURED-LOCATION;VALUE=URI;X-ADDRESS=Ava Roastaria 15135 Southwest Barrows Road Beaverton OR 97007 United States;X-APPLE-RADIUS=500;X-TITLE=15135 Southwest Barrows Road:geo:-122.8322072,45.4296341
END:VEVENT
END:VCALENDAR