BEGIN:VCALENDAR
VERSION:2.0
PRODID:-//Oregon Region - PCA - ECPv6.15.17//NONSGML v1.0//EN
CALSCALE:GREGORIAN
METHOD:PUBLISH
X-ORIGINAL-URL:https://www.oregonpca.org
X-WR-CALDESC:Events for Oregon Region - PCA
REFRESH-INTERVAL;VALUE=DURATION:PT1H
X-Robots-Tag:noindex
X-PUBLISHED-TTL:PT1H
BEGIN:VTIMEZONE
TZID:America/Los_Angeles
BEGIN:DAYLIGHT
TZOFFSETFROM:-0800
TZOFFSETTO:-0700
TZNAME:PDT
DTSTART:20250309T100000
END:DAYLIGHT
BEGIN:STANDARD
TZOFFSETFROM:-0700
TZOFFSETTO:-0800
TZNAME:PST
DTSTART:20251102T090000
END:STANDARD
BEGIN:DAYLIGHT
TZOFFSETFROM:-0800
TZOFFSETTO:-0700
TZNAME:PDT
DTSTART:20260308T100000
END:DAYLIGHT
BEGIN:STANDARD
TZOFFSETFROM:-0700
TZOFFSETTO:-0800
TZNAME:PST
DTSTART:20261101T090000
END:STANDARD
BEGIN:DAYLIGHT
TZOFFSETFROM:-0800
TZOFFSETTO:-0700
TZNAME:PDT
DTSTART:20270314T100000
END:DAYLIGHT
BEGIN:STANDARD
TZOFFSETFROM:-0700
TZOFFSETTO:-0800
TZNAME:PST
DTSTART:20271107T090000
END:STANDARD
END:VTIMEZONE
BEGIN:VEVENT
DTSTART;TZID=America/Los_Angeles:20260124T093000
DTEND;TZID=America/Los_Angeles:20260124T133000
DTSTAMP:20260419T105132
CREATED:20251202T064716Z
LAST-MODIFIED:20260117T090155Z
UID:10000865-1769247000-1769261400@www.oregonpca.org
SUMMARY:Washington Wandering
DESCRIPTION:Our first SUV drive for 2026 is a leisurely scenic tour that travels over fully paved backroads passing through Felida\, Ridgefield\, La Center\, Yacolt\, and Amboy. We will start at the Hazel Dell Safeway\, stop to view the Zylstra Farm Carvings\, have a brief rest stop at Holly Park in LaCenter\, and tour past the Historic Grist Mill and Covered Bridge with an end destination for lunch at the Fargher Lake House Restaurant. I expect about two hours of driving time covering 70 miles. \nThe roads used in this route are all lower than 800 feet in elevation; however\, if the winter weather conditions are such that driving conditions are unsafe\, the drive will be cancelled. \nEvent Organizer: Bob Ellis \nEvent Stats:\nNumber of Groups: 1 group of 12 cars\nTotal Miles: 73\nTotal Drive Time: 2.5 hours \nDigital Navigation Support: \nRidewithGPS link will be provided to attendees with Driving Directions. \nRegistration Information:  \nRegistration is open and close on January 19 at 5:00 p.m. Volunteers will be needed for Leads and Sweeps. Please volunteer when you register\, if you are able and willing to accept the responsibilities. \nGeneral Information about this Event: \nRegistration is by car. Each driver must complete the data collection in the registration form. If you have a navigator\, please register that person at the same time. If you don’t have a navigator\, just mark the navigator question as N/A. \nThe start location\, time\, description of Digital Navigation Support as well a printable PDF file of Driving Directions will be provided two days before the event to all registrants. Please check your Spam folder if you do not see an email with the directions within 24 hours of the event. \nEach Participant (Driver and Navigator) is required to sign the “Release and Waiver of Liability” at the start of the drive. \nWe encourage all participants to take pictures and share the pictures either on our social media sites or upload them to our photo repository using the link provided with the driving directions. \nEvent Policies Regarding Privacy\, Photography\, Social Media and Recordings: Click Here \nQuestions:  Please contact the Drive Leader
URL:https://www.oregonpca.org/event/washington-wandering/
LOCATION:Safeway Vancouver\, 408 NE 81st St\, Vancouver\, WA\, 98665\, United States
CATEGORIES:Drives,SUV Drives
ATTACH;FMTTYPE=image/webp:https://www.oregonpca.org/wp-content/uploads/Gristmill.webp
GEO:45.6818845;-122.6685783
X-APPLE-STRUCTURED-LOCATION;VALUE=URI;X-ADDRESS=Safeway Vancouver 408 NE 81st St Vancouver WA 98665 United States;X-APPLE-RADIUS=500;X-TITLE=408 NE 81st St:geo:-122.6685783,45.6818845
END:VEVENT
END:VCALENDAR