BEGIN:VCALENDAR
VERSION:2.0
PRODID:-//Oregon Region - PCA - ECPv6.15.17//NONSGML v1.0//EN
CALSCALE:GREGORIAN
METHOD:PUBLISH
X-WR-CALNAME:Oregon Region - PCA
X-ORIGINAL-URL:https://www.oregonpca.org
X-WR-CALDESC:Events for Oregon Region - PCA
REFRESH-INTERVAL;VALUE=DURATION:PT1H
X-Robots-Tag:noindex
X-PUBLISHED-TTL:PT1H
BEGIN:VTIMEZONE
TZID:America/Los_Angeles
BEGIN:DAYLIGHT
TZOFFSETFROM:-0800
TZOFFSETTO:-0700
TZNAME:PDT
DTSTART:20250309T100000
END:DAYLIGHT
BEGIN:STANDARD
TZOFFSETFROM:-0700
TZOFFSETTO:-0800
TZNAME:PST
DTSTART:20251102T090000
END:STANDARD
BEGIN:DAYLIGHT
TZOFFSETFROM:-0800
TZOFFSETTO:-0700
TZNAME:PDT
DTSTART:20260308T100000
END:DAYLIGHT
BEGIN:STANDARD
TZOFFSETFROM:-0700
TZOFFSETTO:-0800
TZNAME:PST
DTSTART:20261101T090000
END:STANDARD
BEGIN:DAYLIGHT
TZOFFSETFROM:-0800
TZOFFSETTO:-0700
TZNAME:PDT
DTSTART:20270314T100000
END:DAYLIGHT
BEGIN:STANDARD
TZOFFSETFROM:-0700
TZOFFSETTO:-0800
TZNAME:PST
DTSTART:20271107T090000
END:STANDARD
END:VTIMEZONE
BEGIN:VEVENT
DTSTART;TZID=America/Los_Angeles:20260426T073000
DTEND;TZID=America/Los_Angeles:20260426T140000
DTSTAMP:20260420T180913
CREATED:20260128T224004Z
LAST-MODIFIED:20260128T224004Z
UID:10000929-1777188600-1777212000@www.oregonpca.org
SUMMARY:Autocross #2
DESCRIPTION:About this event\n\nPlease join us for our 2nd Autocross Event of the season.   This event will be held in the South Pits at Portland International Raceway (PIR). \nRegistration is closed on the Friday before the event date.  Registration is limited to 60 participants\, with Non-ORPCA member registration limited to 30 entries.  It is strongly suggested that you register early for an event to ensure a spot.  In the interest of starting on time\, walk-up registrations will no longer be accepted \nTech and Check-in begin at 7:30 am \nFor Car Classing Descriptions\, visit:https://www.oregonpca.org/home/club-events/autocross/car-classification/ \n\n\n\n\n\n\nEvent requirements\n\nParticipants must be 16 years of Age and a valid drivers license. Participants 16 to 18 years must sign a minor release of liability. A copy can be found at www.pca.org of from the event organizers. \nWe require Snell SA or M 2015 or newer helmet to participate in this event. A limited number of helmets are available to borrow. \n\nTo register for this event\, please go to: LINK
URL:https://www.oregonpca.org/event/autocross-2/
CATEGORIES:Autocross,Motorsports
ATTACH;FMTTYPE=image/webp:https://www.oregonpca.org/wp-content/uploads/2025-Autocross-19.webp
END:VEVENT
END:VCALENDAR