BEGIN:VCALENDAR
VERSION:2.0
PRODID:-//Oregon Region - PCA - ECPv6.15.17//NONSGML v1.0//EN
CALSCALE:GREGORIAN
METHOD:PUBLISH
X-ORIGINAL-URL:https://www.oregonpca.org
X-WR-CALDESC:Events for Oregon Region - PCA
REFRESH-INTERVAL;VALUE=DURATION:PT1H
X-Robots-Tag:noindex
X-PUBLISHED-TTL:PT1H
BEGIN:VTIMEZONE
TZID:America/Los_Angeles
BEGIN:DAYLIGHT
TZOFFSETFROM:-0800
TZOFFSETTO:-0700
TZNAME:PDT
DTSTART:20250309T100000
END:DAYLIGHT
BEGIN:STANDARD
TZOFFSETFROM:-0700
TZOFFSETTO:-0800
TZNAME:PST
DTSTART:20251102T090000
END:STANDARD
BEGIN:DAYLIGHT
TZOFFSETFROM:-0800
TZOFFSETTO:-0700
TZNAME:PDT
DTSTART:20260308T100000
END:DAYLIGHT
BEGIN:STANDARD
TZOFFSETFROM:-0700
TZOFFSETTO:-0800
TZNAME:PST
DTSTART:20261101T090000
END:STANDARD
BEGIN:DAYLIGHT
TZOFFSETFROM:-0800
TZOFFSETTO:-0700
TZNAME:PDT
DTSTART:20270314T100000
END:DAYLIGHT
BEGIN:STANDARD
TZOFFSETFROM:-0700
TZOFFSETTO:-0800
TZNAME:PST
DTSTART:20271107T090000
END:STANDARD
END:VTIMEZONE
BEGIN:VEVENT
DTSTART;TZID=America/Los_Angeles:20260422T083000
DTEND;TZID=America/Los_Angeles:20260422T123000
DTSTAMP:20260422T005229
CREATED:20251230T022842Z
LAST-MODIFIED:20260403T035006Z
UID:10000890-1776846600-1776861000@www.oregonpca.org
SUMMARY:April Midweek Drive – Washougal\, Klickitat Canyon\, Stevenson\, WA
DESCRIPTION:This scenic 3-Rivers back roads midweek drive starts in Washougal following the Washougal River\, meandering back to one of the favorites\, Hwy 14 along the Columbia River\, before heading north on Old Highway 8 to Klickitat. From there\, we follow the Klickitat River along State Route 142 back to Highway 14. We end our drive in beautiful Stevenson for lunch at Clark & Lewies. The drive will be about 135 miles. Bring layers to wear as we will undoubtedly run into many temperature variations along the way! \nEvent Organizer: Mark McGirr \nEvent Stats:\nNumber of Groups: To be determined\nTotal Miles: 133\nTotal Drive Time: 3.5 hours \nDigital Navigation Support: \nRidewithGPS link will be provided to attendees with Driving Directions. \nRegistration Information:  \nRegistration will close on April 17 at 5:00 p.m. Volunteers will be needed for Leads and Sweeps. Please volunteer when you register\, if you are able and willing to accept the responsibilities. \nGeneral Information about this Event: \nRegistration is by car. Each driver must complete the data collection in the registration form. If you have a navigator\, please register that person at the same time. If you don’t have a navigator\, just mark the navigator question as N/A. \nThe start location\, time\, description of Digital Navigation Support as well a printable PDF file of Driving Directions will be provided two days before the event to all registrants. Please check your Spam folder if you do not see an email with the directions within 24 hours of the event. \nEach Participant (Driver and Navigator) is required to sign the “Release and Waiver of Liability” at the start of the drive. \nWe encourage all participants to take pictures and share the pictures either on our social media sites or upload them to our photo repository using the link provided with the driving directions. \nEvent Policies Regarding Privacy\, Photography\, Social Media and Recordings: Click Here \nQuestions:  Please contact the Drive Leader
URL:https://www.oregonpca.org/event/midweek-drive-april/
LOCATION:Two Rivers Heritage Museum Parking Lot\, 1 Durgan Street\, Washougal\, WA\, 98671\, United States
CATEGORIES:Drives,Midweek Drive
ATTACH;FMTTYPE=image/webp:https://www.oregonpca.org/wp-content/uploads/2025 Covered Bridges 3.webp
GEO:45.5772394;-122.3550072
X-APPLE-STRUCTURED-LOCATION;VALUE=URI;X-ADDRESS=Two Rivers Heritage Museum Parking Lot 1 Durgan Street Washougal WA 98671 United States;X-APPLE-RADIUS=500;X-TITLE=1 Durgan Street:geo:-122.3550072,45.5772394
END:VEVENT
BEGIN:VEVENT
DTSTART;TZID=America/Los_Angeles:20260425T090000
DTEND;TZID=America/Los_Angeles:20260425T140000
DTSTAMP:20260422T005229
CREATED:20260325T012738Z
LAST-MODIFIED:20260417T180858Z
UID:10000964-1777107600-1777125600@www.oregonpca.org
SUMMARY:Annual Spring Cleaning
DESCRIPTION:Get Your Porsche Spring-Ready! \nJoin us for the Annual Spring Clean — a great opportunity to have your car looking its best before the driving season kicks into high gear. \nThe event is hosted by Matrix Integrated at their Downtown location and organized by Mike O’Connor\, on Saturday\, April 25th from 9:00 am to 2:00 pm. \nA hand-picked selection of trusted vendors will be on-site offering: \n\nPaint chip repair\nWindshield & glass repair\nPaintless dent repair\nWheel repair\nLeather repair\n\nSpace with vendors is limited — please RSVP and indicate which services you’d like so we can make sure everything is lined up and ready for you. \nPlease bring cash\, no credit cards! \nAddress: 4000 S Macadam Ave\, Portland\, OR 97239 \n \n 
URL:https://www.oregonpca.org/event/annual-spring-cleaning/
LOCATION:Matrix Integrated\, 4000 SW Macadam Ave\, Portland\, Oregon\, 97239
ATTACH;FMTTYPE=image/webp:https://www.oregonpca.org/wp-content/uploads/Spring-Clean-3-1.webp
ORGANIZER;CN="Mike O'Connor":MAILTO:oconnor-m@comcast.net
GEO:45.4940336;-122.6724069
X-APPLE-STRUCTURED-LOCATION;VALUE=URI;X-ADDRESS=Matrix Integrated 4000 SW Macadam Ave Portland Oregon 97239;X-APPLE-RADIUS=500;X-TITLE=4000 SW Macadam Ave:geo:-122.6724069,45.4940336
END:VEVENT
BEGIN:VEVENT
DTSTART;TZID=America/Los_Angeles:20260425T100000
DTEND;TZID=America/Los_Angeles:20260425T133000
DTSTAMP:20260422T005229
CREATED:20260403T034630Z
LAST-MODIFIED:20260403T150919Z
UID:10000966-1777111200-1777123800@www.oregonpca.org
SUMMARY:WA Cougar Loop
DESCRIPTION:Our April SUV will take us north of the Columbia\, starting in Camas\, WA. The route will head north through the Yacolt Burn State Forest\, then up around Yale Lake and Swift Reservoir\, with stops along the way\, including the McClellan Viewpoint\, before descending back to Carson and the Columbia. Lunch is planned for the Washougal Times\, in you guessed it – Washougal! \nPlease note this is considered a CAT 1 Drive as there will be about 6 miles on unimproved country roads. \nEvent Organizer: Jeff Gasparitsch \nEvent Stats:\nNumber of Groups: 1 or 2 groups\, up to 16 vehicles\nTotal Miles: 140\nTotal Drive Time: 3.5 hours \nDigital Navigation Support: \nRidewithGPS link will be provided to attendees with Driving Directions. \nRegistration Information:  \nRegistration will close on April 20 at 5 p.m. Volunteers will be needed for Leads and Sweeps. Please volunteer when you register\, if you are able and willing to accept the responsibilities. \nGeneral Information about this Event: \nRegistration is by car. Each driver must complete the data collection in the registration form. If you have a navigator\, please register that person at the same time. If you don’t have a navigator\, just mark the navigator question as N/A. \nThe start location\, time\, description of Digital Navigation Support as well a printable PDF file of Driving Directions will be provided two days before the event to all registrants. Please check your Spam folder if you do not see an email with the directions within 24 hours of the event. \nEach Participant (Driver and Navigator) is required to sign the “Release and Waiver of Liability” at the start of the drive. \nWe encourage all participants to take pictures and share the pictures either on our social media sites or upload them to our photo repository using the link provided with the driving directions. \nEvent Policies Regarding Privacy\, Photography\, Social Media and Recordings: Click Here \nQuestions:  Please contact the Drive Leader
URL:https://www.oregonpca.org/event/wa-cougar-loop/
LOCATION:Safeway Camas\, 800 NE 3rd Ave\, Camas\, WA\, 98607\, United States
CATEGORIES:Drives,SUV Drives
ATTACH;FMTTYPE=image/webp:https://www.oregonpca.org/wp-content/uploads/CougarSUV.webp
GEO:45.5869631;-122.399498
X-APPLE-STRUCTURED-LOCATION;VALUE=URI;X-ADDRESS=Safeway Camas 800 NE 3rd Ave Camas WA 98607 United States;X-APPLE-RADIUS=500;X-TITLE=800 NE 3rd Ave:geo:-122.399498,45.5869631
END:VEVENT
BEGIN:VEVENT
DTSTART;TZID=America/Los_Angeles:20260426T073000
DTEND;TZID=America/Los_Angeles:20260426T140000
DTSTAMP:20260422T005229
CREATED:20260128T224004Z
LAST-MODIFIED:20260128T224004Z
UID:10000929-1777188600-1777212000@www.oregonpca.org
SUMMARY:Autocross #2
DESCRIPTION:About this event\n\nPlease join us for our 2nd Autocross Event of the season.   This event will be held in the South Pits at Portland International Raceway (PIR). \nRegistration is closed on the Friday before the event date.  Registration is limited to 60 participants\, with Non-ORPCA member registration limited to 30 entries.  It is strongly suggested that you register early for an event to ensure a spot.  In the interest of starting on time\, walk-up registrations will no longer be accepted \nTech and Check-in begin at 7:30 am \nFor Car Classing Descriptions\, visit:https://www.oregonpca.org/home/club-events/autocross/car-classification/ \n\n\n\n\n\n\nEvent requirements\n\nParticipants must be 16 years of Age and a valid drivers license. Participants 16 to 18 years must sign a minor release of liability. A copy can be found at www.pca.org of from the event organizers. \nWe require Snell SA or M 2015 or newer helmet to participate in this event. A limited number of helmets are available to borrow. \n\nTo register for this event\, please go to: LINK
URL:https://www.oregonpca.org/event/autocross-2/
LOCATION:OR
CATEGORIES:Autocross,Motorsports
ATTACH;FMTTYPE=image/webp:https://www.oregonpca.org/wp-content/uploads/2025-Autocross-19.webp
END:VEVENT
BEGIN:VEVENT
DTSTART;TZID=America/Los_Angeles:20260426T090000
DTEND;TZID=America/Los_Angeles:20260426T120000
DTSTAMP:20260422T005229
CREATED:20260325T014905Z
LAST-MODIFIED:20260330T053139Z
UID:10000965-1777194000-1777204800@www.oregonpca.org
SUMMARY:Bloom and Vroom – Ladies Spring Drive
DESCRIPTION:Shine up your prettiest Porsche and join the Ladies of ORPCA for a drive through the prettiest region in the prettiest season. This is a woman-drivers-only event (sorry guys) that takes us through flower fields and small agricultural towns of the Willamette Valley. We’ll end with lunch in the cute and walkable town of Silverton. Lunch will be at Oso Silverton – Spanish and Mediterranean Cuisine. Space is limited. \nEvent Organizer: Carole Hedstrom \nEvent Stats:\nNumber of Groups: 2 groups of 10\nTotal Miles: 80\nTotal Drive Time: 2.5 hours \nDigital Navigation Support: \nRidewithGPS link will be provided to attendees with Driving Directions. \nRegistration Information:  \nRegistration will open on March 25 and close on April 20 at 5:00 p.m. Volunteers will be needed for Leads and Sweeps. Please volunteer when you register\, if you are able and willing to accept the responsibilities. \nGeneral Information about this Event: \nRegistration is by car. Each driver must complete the data collection in the registration form. If you have a navigator\, please register that person at the same time. If you don’t have a navigator\, just mark the navigator question as N/A. \nThe start location\, time\, description of Digital Navigation Support as well a printable PDF file of Driving Directions will be provided two days before the event to all registrants. Please check your Spam folder if you do not see an email with the directions within 24 hours of the event. \nEach Participant (Driver and Navigator) is required to sign the “Release and Waiver of Liability” at the start of the drive. \nWe encourage all participants to take pictures and share the pictures either on our social media sites or upload them to our photo repository using the link provided with the driving directions. \nEvent Policies Regarding Privacy\, Photography\, Social Media and Recordings: Click Here \nQuestions:  Please contact the Drive Leader
URL:https://www.oregonpca.org/event/bloom-and-vroom-ladies-spring-drive/
LOCATION:Oregon City Shopping Center – Starbucks\, 1900 SE McLoughlin Blvd\, Oregon City\, OR\, 97045
CATEGORIES:Drives,Special Drive,Sunday Drive
ATTACH;FMTTYPE=image/webp:https://www.oregonpca.org/wp-content/uploads/LadiesDrive26Spring.webp
GEO:45.3684193;-122.599596
X-APPLE-STRUCTURED-LOCATION;VALUE=URI;X-ADDRESS=Oregon City Shopping Center – Starbucks 1900 SE McLoughlin Blvd Oregon City OR 97045;X-APPLE-RADIUS=500;X-TITLE=1900 SE McLoughlin Blvd:geo:-122.599596,45.3684193
END:VEVENT
END:VCALENDAR