BEGIN:VCALENDAR
VERSION:2.0
PRODID:-//Oregon Region - PCA - ECPv6.15.17//NONSGML v1.0//EN
CALSCALE:GREGORIAN
METHOD:PUBLISH
X-WR-CALNAME:Oregon Region - PCA
X-ORIGINAL-URL:https://www.oregonpca.org
X-WR-CALDESC:Events for Oregon Region - PCA
REFRESH-INTERVAL;VALUE=DURATION:PT1H
X-Robots-Tag:noindex
X-PUBLISHED-TTL:PT1H
BEGIN:VTIMEZONE
TZID:America/Los_Angeles
BEGIN:DAYLIGHT
TZOFFSETFROM:-0800
TZOFFSETTO:-0700
TZNAME:PDT
DTSTART:20250309T100000
END:DAYLIGHT
BEGIN:STANDARD
TZOFFSETFROM:-0700
TZOFFSETTO:-0800
TZNAME:PST
DTSTART:20251102T090000
END:STANDARD
BEGIN:DAYLIGHT
TZOFFSETFROM:-0800
TZOFFSETTO:-0700
TZNAME:PDT
DTSTART:20260308T100000
END:DAYLIGHT
BEGIN:STANDARD
TZOFFSETFROM:-0700
TZOFFSETTO:-0800
TZNAME:PST
DTSTART:20261101T090000
END:STANDARD
BEGIN:DAYLIGHT
TZOFFSETFROM:-0800
TZOFFSETTO:-0700
TZNAME:PDT
DTSTART:20270314T100000
END:DAYLIGHT
BEGIN:STANDARD
TZOFFSETFROM:-0700
TZOFFSETTO:-0800
TZNAME:PST
DTSTART:20271107T090000
END:STANDARD
END:VTIMEZONE
BEGIN:VEVENT
DTSTART;TZID=America/Los_Angeles:20260329T080000
DTEND;TZID=America/Los_Angeles:20260402T170000
DTSTAMP:20260420T080020
CREATED:20251104T005752Z
LAST-MODIFIED:20251104T010010Z
UID:10000854-1774771200-1775149200@www.oregonpca.org
SUMMARY:Spring Treffen 2026
DESCRIPTION:Treffen Lowcountry\nSunday\, March 29\, 2026  – Thursday\, April 2\, 2026 \n\nPalmetto Bluff: An Idyllic Enclave Away From The World But Immersed In Nature\, Bluffton\, SC \nEVENT REGISTRATION – Thursday\, December 18th\, 2025; 3:00 PM ET\n  \nEvent Page
URL:https://www.oregonpca.org/event/spring-treffen-2026/
CATEGORIES:PCA Event
ATTACH;FMTTYPE=image/png:https://www.oregonpca.org/wp-content/uploads/TreffenNorthAmericaLogo-1.png
END:VEVENT
BEGIN:VEVENT
DTSTART;TZID=America/Los_Angeles:20260306T080000
DTEND;TZID=America/Los_Angeles:20260306T170000
DTSTAMP:20260420T080020
CREATED:20251030T052329Z
LAST-MODIFIED:20251030T052619Z
UID:10000851-1772784000-1772816400@www.oregonpca.org
SUMMARY:Werks Reunion Amelia Island
DESCRIPTION:Werks Reunion Amelia Island\n\nEvent Page\n\n\n\nThe Amelia River Club\n4477 Buccaneer Trail\nAmelia Island\, FL 32034\nMarch 6\, 2026\nWerks Amelia registration will open Wednesday December 10\, 2025 at 12:00 PM (ET)
URL:https://www.oregonpca.org/event/werks-reunion-amelia-island/
CATEGORIES:PCA Event
ATTACH;FMTTYPE=image/png:https://www.oregonpca.org/wp-content/uploads/Werks-Reunion-26.png
END:VEVENT
END:VCALENDAR