BEGIN:VCALENDAR
VERSION:2.0
PRODID:-//Oregon Region - PCA - ECPv6.15.17//NONSGML v1.0//EN
CALSCALE:GREGORIAN
METHOD:PUBLISH
X-WR-CALNAME:Oregon Region - PCA
X-ORIGINAL-URL:https://www.oregonpca.org
X-WR-CALDESC:Events for Oregon Region - PCA
REFRESH-INTERVAL;VALUE=DURATION:PT1H
X-Robots-Tag:noindex
X-PUBLISHED-TTL:PT1H
BEGIN:VTIMEZONE
TZID:America/Los_Angeles
BEGIN:DAYLIGHT
TZOFFSETFROM:-0800
TZOFFSETTO:-0700
TZNAME:PDT
DTSTART:20240310T100000
END:DAYLIGHT
BEGIN:STANDARD
TZOFFSETFROM:-0700
TZOFFSETTO:-0800
TZNAME:PST
DTSTART:20241103T090000
END:STANDARD
BEGIN:DAYLIGHT
TZOFFSETFROM:-0800
TZOFFSETTO:-0700
TZNAME:PDT
DTSTART:20250309T100000
END:DAYLIGHT
BEGIN:STANDARD
TZOFFSETFROM:-0700
TZOFFSETTO:-0800
TZNAME:PST
DTSTART:20251102T090000
END:STANDARD
BEGIN:DAYLIGHT
TZOFFSETFROM:-0800
TZOFFSETTO:-0700
TZNAME:PDT
DTSTART:20260308T100000
END:DAYLIGHT
BEGIN:STANDARD
TZOFFSETFROM:-0700
TZOFFSETTO:-0800
TZNAME:PST
DTSTART:20261101T090000
END:STANDARD
BEGIN:DAYLIGHT
TZOFFSETFROM:-0800
TZOFFSETTO:-0700
TZNAME:PDT
DTSTART:20270314T100000
END:DAYLIGHT
BEGIN:STANDARD
TZOFFSETFROM:-0700
TZOFFSETTO:-0800
TZNAME:PST
DTSTART:20271107T090000
END:STANDARD
END:VTIMEZONE
BEGIN:VEVENT
DTSTART;TZID=America/Los_Angeles:20260114T083000
DTEND;TZID=America/Los_Angeles:20260114T123000
DTSTAMP:20260423T055913
CREATED:20251202T063732Z
LAST-MODIFIED:20260102T175542Z
UID:10000862-1768379400-1768393800@www.oregonpca.org
SUMMARY:January Midweek Drive
DESCRIPTION:We will set off from Oregon Trail Visitors Center for an all–back roads adventure\, heading east and then south through the charming countryside towns of Viola\, Elwood\, Cedardale\, and Fernwood. Skirting Molalla\, we continued south through Scotts Mills\, winding our way across scenic roads until we reach Silver Falls State Park. After soaking in the sights and enjoying plenty of twisty stretches along the way\, we turn north once more\, weaving through Silverton and ending up at Lou’s Kitchen in Mt. Angel for a tasty lunch and a cheerful recap of our journey.  \nWe look forward to welcoming old and new members to this exciting drive event. If you’re not already a club member\, and would like to join us on events like these\, join ORPCA here. \nEvent Organizer: Mark McGirr and Fred Holzheiser \nEvent Stats:\nNumber of Groups: 2 groups of 12 cars\nTotal Miles: 110 miles\nTotal Drive Time: 3.5 hours \nDigital Navigation Support: \nRidewithGPS link will be provided to attendees with Driving Directions. \nRegistration Information:  \nRegistration will open on December 18 at 7:00 p.m. and close on January 10 at 5 p.m. Volunteers will be needed for Leads and Sweeps. Please volunteer when you register\, if you are able and willing to accept the responsibilities. \nGeneral Information about this Event: \nRegistration is by car. Each driver must complete the data collection in the registration form. If you have a navigator\, please register that person at the same time. If you don’t have a navigator\, just mark the navigator question as N/A. \nThe start location\, time\, description of Digital Navigation Support as well a printable PDF file of Driving Directions will be provided two days before the event to all registrants. Please check your Spam folder if you do not see an email with the directions within 24 hours of the event. \nEach Participant (Driver and Navigator) is required to sign the “Release and Waiver of Liability” at the start of the drive. \nWe encourage all participants to take pictures and share the pictures either on our social media sites or upload them to our photo repository using the link provided with the driving directions. \nEvent Policies Regarding Privacy\, Photography\, Social Media and Recordings: Click Here \nQuestions:  Please contact the Drive Leader
URL:https://www.oregonpca.org/event/january-midweek-drive/
LOCATION:The End of The Oregon Trail Parking Lot\, 1726 Washington Street\, Oregon City\, OR\, 97045\, United States
CATEGORIES:Drives,Midweek Drive
ATTACH;FMTTYPE=image/jpeg:https://www.oregonpca.org/wp-content/uploads/RiPitt-Race-e1736827510915.jpeg
GEO:45.3646785;-122.5943461
X-APPLE-STRUCTURED-LOCATION;VALUE=URI;X-ADDRESS=The End of The Oregon Trail Parking Lot 1726 Washington Street Oregon City OR 97045 United States;X-APPLE-RADIUS=500;X-TITLE=1726 Washington Street:geo:-122.5943461,45.3646785
END:VEVENT
BEGIN:VEVENT
DTSTART;TZID=America/Los_Angeles:20260110T093000
DTEND;TZID=America/Los_Angeles:20260110T140000
DTSTAMP:20260423T055913
CREATED:20251202T062505Z
LAST-MODIFIED:20260102T175526Z
UID:10000859-1768037400-1768053600@www.oregonpca.org
SUMMARY:First Drive of the New Year
DESCRIPTION:Event Description: \nOur first drive of 2026 follows last year’s first drive route. We start in Scappoose and drive west along the Columbia\, crossing in Longview over to the north side and then heading along the Columbia to Cathlamet where we take the ferry to Westport and then on Hwy 30 to Astoria where we end the drive at the Bridgewater Bistro.This drive is a leisurely drive including the amazing experience to cross the Columbia on the last operating ferry. The cold weather route includes deviations into the picturesque towns of St. Helens and Rainier and stays at low elevations. We recommend all season or winter tires for safety.\nThere are two route options\, one for cold weather (as it should be in January) and one for warm weather (what could happen in January). Starting and End Location are identical; the ferry ride is in both routes. We will notify all registered attendees a few days before the drive which of the routes we will be taking. \nWe look forward to welcoming old and new members to this exciting drive event. RSVP will be required.  If you’re not already a club member\, and would like to join us on events like these\, join ORPCA here. \nEvent Organizer: Heinz Holzapfel \nEvent Stats:\nNumber of Groups: 2 (12 cars each)\nTotal Miles: 100\nTotal Drive Time: 2 hours drive time\, total 3 hours with rest stops and ferry ride \nDigital Navigation Support: \nRidewithGPS link will be provided to attendees with Driving Directions. \nRegistration Information:  \nRegistration will open on December 18 at 7 p.m. and close on January 7 at 5 p.m. Volunteers will be needed for Leads and Sweeps. Please volunteer when you register\, if you are able and willing to accept the responsibilities. \nGeneral Information about this Event: \nRegistration is by car. Each driver must complete the data collection in the registration form. If you have a navigator\, please register that person at the same time. If you don’t have a navigator\, just mark the navigator question as N/A. \nThe start location\, time\, description of Digital Navigation Support as well a printable PDF file of Driving Directions will be provided two days before the event to all registrants. Please check your Spam folder if you do not see an email with the directions within 24 hours of the event. \nEach Participant (Driver and Navigator) is required to sign the “Release and Waiver of Liability” at the start of the drive. \nEvent Policies Regarding Privacy\, Photography\, Social Media and Recordings: Click Here \nQuestions:  Please contact the Drive Leader \nWe encourage all participants to take pictures and share the pictures either on our social media sites or upload them to our photo repository using the link provided with the driving directions.
URL:https://www.oregonpca.org/event/first-saturday-drive/
LOCATION:Fred Meyer Parking Lot\, Scappoose\, 51501 Columbia River Hwy\, Scappoose\, OR\, 97056\, United States
CATEGORIES:Drives,Saturday Drive
ATTACH;FMTTYPE=image/webp:https://www.oregonpca.org/wp-content/uploads/McClellen-Viewpoint.webp
GEO:45.741755;-122.8784466
X-APPLE-STRUCTURED-LOCATION;VALUE=URI;X-ADDRESS=Fred Meyer Parking Lot Scappoose 51501 Columbia River Hwy Scappoose OR 97056 United States;X-APPLE-RADIUS=500;X-TITLE=51501 Columbia River Hwy:geo:-122.8784466,45.741755
END:VEVENT
BEGIN:VEVENT
DTSTART;TZID=America/Los_Angeles:20251213T083000
DTEND;TZID=America/Los_Angeles:20251213T123000
DTSTAMP:20260423T055913
CREATED:20241230T005057Z
LAST-MODIFIED:20251125T214600Z
UID:10000772-1765614600-1765629000@www.oregonpca.org
SUMMARY:That's a Wrap Drive
DESCRIPTION:Please join us for an end-of-year wrap-up drive. We will begin in Wilsonville and tour the nearby vineyards in the Chehalem Mountain area. Our drive will continue up to Bald Peak and then wind our way back down into the valley\, to some beautiful scenery and roads in the Eola Hills. We will end our drive at Checkpoint 221\, a taphouse and food truck court for lunch. \nEvent Organizer: Mike Newby \nEvent Stats:\nNumber of Groups: 3 groups of 12 cars\nTotal Miles: 100\nTotal Drive Time: about 3.5 hours \nDigital Navigation Support: \nRidewithGPS: Instructions will be provided to attendees with Driving Directions. \nRegistration Information:  \nRegistration will open November 12 at 7:00 p.m. and close December 8 at 5:00 p.m. Volunteers will be needed for Leads and Sweeps. Please volunteer when you register\, if you are able and willing to accept the responsibilities. \nGeneral Information about this Event: \nRegistration is by car. Each driver must complete the data collection in the registration form. If you have a navigator\, please register that person at the same time. If you don’t have a navigator\, just mark the navigator question as N/A. \nThe start location\, time\, description of Digital Navigation Support as well a printable PDF file of Driving Directions will be provided two days before the event to all registrants. Please check your Spam folder if you do not see an email with the directions within 24 hours of the event. \nEach Participant (Driver and Navigator) is required to sign the “Release and Waiver of Liability” at the start of the drive. \nWe encourage all participants to take pictures and share the pictures either on our social media sites or upload them to our photo repository using the link provided with the driving directions. \nEvent Policies Regarding Privacy\, Photography and Recordings: Click Here \nQuestions:  Please contact the Tour Leader
URL:https://www.oregonpca.org/event/saturday-drive-december-13/
LOCATION:Fred Meyer Parking Lot\, Wilsonville\, 30300 SW Boones Ferry Rd.\, Wilsonville\, OR\, 97070\, United States
CATEGORIES:Tour
ATTACH;FMTTYPE=image/jpeg:https://www.oregonpca.org/wp-content/uploads/wrapdrive.jpg
GEO:45.3020425;-122.7725482
X-APPLE-STRUCTURED-LOCATION;VALUE=URI;X-ADDRESS=Fred Meyer Parking Lot Wilsonville 30300 SW Boones Ferry Rd. Wilsonville OR 97070 United States;X-APPLE-RADIUS=500;X-TITLE=30300 SW Boones Ferry Rd.:geo:-122.7725482,45.3020425
END:VEVENT
END:VCALENDAR